BEGIN:VCALENDAR
VERSION:2.0
PRODID:-//wp-events-plugin.com//7.2.3.1//EN
TZID:Europe/Berlin
X-WR-TIMEZONE:Europe/Berlin
BEGIN:VEVENT
UID:31@cm-brusl.de
DTSTART;TZID=Europe/Berlin:20250730T173000
DTEND;TZID=Europe/Berlin:20250730T190000
DTSTAMP:20250720T133905Z
URL:https://cm-brusl.de/events/critical-mass-bruchsal-3-2025-07-30/
SUMMARY:Critical Mass Bruchsal
DESCRIPTION:Wir treffen uns immer am letzten Mittwoch des Monats am Quartie
 rsplatz der Bahnstadt und verschaffen dem Radverkehr in Bruchsal Präsenz.
 \n\nDie Fahrten sind beim Ordnungsamt Bruchsal angemeldet und werden im Re
 gelfall durch die Polizei oder Mitarbeiter des Ordnungsamts begleitet.\n\n
 \n\nStrecke laut Verfügung des Ordnungsamtes:\n\nRoute: Start / Sammelpla
 tz: Quartiersplatz -Am Alten Güterbahnhof -Werner-von-Siemens-Straße -Fa
 hrradweg Richtung Forst -Burgweg -Zeiligstraße -Bruchsaler Straße -Weihe
 rer Straße -auf dem Radweg bis kurz vor Weiher -In Höhe des Hardtsees Ab
 fahrt links auf dem Radweg in die Kronauer Allee -Kronauer Allee -Philipps
 ee / Ende\n\n---Informationen folgen---\n\n[osm_map_v3 map_center="49.1243
 \,8.5881" zoom="18.1" width="95%" height="450" post_markers="1" ]
CATEGORIES:BürgerEnergie,Critical Mass,Event
LOCATION:Quartiersplatz Bahnstadt\, Am Alten Güterbahnhof 6\, Bruchsal\, B
 aden-Württemberg\, 76646\, Deutschland
X-APPLE-STRUCTURED-LOCATION;VALUE=URI;X-ADDRESS=Am Alten Güterbahnhof 6\, 
 Bruchsal\, Baden-Württemberg\, 76646\, Deutschland;X-APPLE-RADIUS=100;X-T
 ITLE=Quartiersplatz Bahnstadt:geo:0,0
END:VEVENT
BEGIN:VTIMEZONE
TZID:Europe/Berlin
X-LIC-LOCATION:Europe/Berlin
BEGIN:DAYLIGHT
DTSTART:20250330T030000
TZOFFSETFROM:+0100
TZOFFSETTO:+0200
TZNAME:CEST
END:DAYLIGHT
END:VTIMEZONE
END:VCALENDAR