BEGIN:VCALENDAR
VERSION:2.0
PRODID:-//wp-events-plugin.com//7.2.3.1//EN
TZID:Europe/Berlin
X-WR-TIMEZONE:Europe/Berlin
BEGIN:VEVENT
UID:54@cm-brusl.de
DTSTART;TZID=Europe/Berlin:20260426T110000
DTEND;TZID=Europe/Berlin:20260426T163000
DTSTAMP:20260418T153631Z
URL:https://cm-brusl.de/events/fahrrad-tour-der-beg-kraichgau-2026/
SUMMARY:Fahrrad-Tour der BEG Kraichgau 2026
DESCRIPTION:- Eine Veranstaltung der BEG Kraichgau -\nFahrrad-Tour der BEG 
 Kraichgau: Gemeinsam zu den Bürger.Energie-Projekten radeln\nDie BEG Krai
 chgau lädt Mitglieder\, Mitgestalter der Energiewende und Interessierte z
 u einer kostenlosen Fahrrad-Tour ein. Unsere Tour startet am Treffpunkt 
 „Fahrraddrehkreuz Kronau“&nbsp\;und führt uns dann über Hambrücken 
 und Forst nach Kraichtal-Unteröwisheim\, wo wir an der Projektfläche des
  geplanten Bürger.Solarparks Kraichtal eine Tour-Pause mit Erfrischungen 
 einlegen. Im Anschluss geht es über Stettfeld (Ubstadt-Weiher) zurück na
 ch Kronau.&nbsp\; Während der Tour halten wir mehrfach an ausgewählten G
 emeindegebäuden auf denen die BEG Kraichgau PV-Aufdachanlagen betreibt. U
 nser Vorstand für den Bereich PV-Aufdach wird vor Ort interessante Fakten
  zu den Anlagen präsentieren. Auf diese Weise erfahrt ihr mehr über die 
 Projekte\, ihre Bedeutung für die regionale Energieversorgung und welche 
 Projektschritte jeweils als nächstes anstehen.\n\nUm Anmeldung zur Teilna
 hme wird gebeten: hier anmelden
ATTACH;FMTTYPE=image/jpeg:https://cm-brusl.de/wp-content/uploads/2026/04/b
 26d8174-0169-4b5b-b433-a82e8ba3e915-1500x630-1.jpg
CATEGORIES:BürgerEnergie,Event
LOCATION:Fahrraddrehkreuz Kronau\, Kirrlacher Str. 3\, Kronau\, Baden-Würt
 temberg\, 76709 \, Deutschland
X-APPLE-STRUCTURED-LOCATION;VALUE=URI;X-ADDRESS=Kirrlacher Str. 3\, Kronau\
 , Baden-Württemberg\, 76709 \, Deutschland;X-APPLE-RADIUS=100;X-TITLE=Fah
 rraddrehkreuz Kronau:geo:0,0
END:VEVENT
BEGIN:VTIMEZONE
TZID:Europe/Berlin
X-LIC-LOCATION:Europe/Berlin
BEGIN:DAYLIGHT
DTSTART:20260329T030000
TZOFFSETFROM:+0100
TZOFFSETTO:+0200
TZNAME:CEST
END:DAYLIGHT
END:VTIMEZONE
END:VCALENDAR