BEGIN:VCALENDAR
VERSION:2.0
PRODID:-//wp-events-plugin.com//7.2.3.1//EN
TZID:Europe/Berlin
X-WR-TIMEZONE:Europe/Berlin
BEGIN:VEVENT
UID:53@cm-brusl.de
DTSTART;TZID=Europe/Berlin:20260621T070000
DTEND;TZID=Europe/Berlin:20260621T170000
DTSTAMP:20260418T150150Z
URL:https://cm-brusl.de/events/sternfahrt-stuttgart-2026/
SUMMARY:Sternfahrt Stuttgart 2026
DESCRIPTION:Ähnlich den Natenom-Gedenkfahrten jeweils im Januar der letzte
 n Jahre werden wir einen Zubringer aus Heidelsheim für die Fahrt nach Stu
 ttgart organisieren.\n\nDerzeit gilt folgende Zeitplanung:\n\nHeidelsheim 
 Ecke Gochsheimer-/Neibsheimer Straße Abfahrt 7:10 - Bretten Stadtbahn Sta
 dtmitte (10km) Ankunft 7:50\;\nBretten Stadtbahn Stadtmitte Abfahrt 7:55 -
  Pforzheim Waisenhausplatz (22\,3km) Ankunft 9:10\;\n(Abfahrt in Pforzheim
  mit dem Zubringer aus Karlsruhe zusammen ist 9:45 vom Waisenhausplatz)\n\
 nDie weiteren geplanten Stationen:\n11:30 Weil der Stadt\n12:20 Renningen\
 n13:00 Leonberg\n13:50 Ditzingen\n14:45 Feuerbach\n15:00 Pragsattel\n\nAll
 e Zubringer zur Sternfahrt auf einen Blick:\n\nZubringer Sternfahrt Stuttg
 art 2026
ATTACH;FMTTYPE=image/jpeg:https://cm-brusl.de/wp-content/uploads/2026/04/s
 ternfahrt-stuttgart-2026.png
CATEGORIES:Fahrraddemo,Sternfahrt
LOCATION:Sternfahrt-Treffpunkt Heidelsheim\, Ecke Gochsheimer / Neibsheimer
  Straße\, Bruchsal-Heidelsheim\, Baden-Württemberg\, 76646\, Deutschland
X-APPLE-STRUCTURED-LOCATION;VALUE=URI;X-ADDRESS=Ecke Gochsheimer / Neibshei
 mer Straße\, Bruchsal-Heidelsheim\, Baden-Württemberg\, 76646\, Deutschl
 and;X-APPLE-RADIUS=100;X-TITLE=Sternfahrt-Treffpunkt Heidelsheim:geo:0,0
END:VEVENT
BEGIN:VTIMEZONE
TZID:Europe/Berlin
X-LIC-LOCATION:Europe/Berlin
BEGIN:DAYLIGHT
DTSTART:20260329T030000
TZOFFSETFROM:+0100
TZOFFSETTO:+0200
TZNAME:CEST
END:DAYLIGHT
END:VTIMEZONE
END:VCALENDAR